BEGIN:VCALENDAR
VERSION:2.0
PRODID:-//San Francisco Boys Chorus - ECPv6.15.20//NONSGML v1.0//EN
CALSCALE:GREGORIAN
METHOD:PUBLISH
X-ORIGINAL-URL:https://sfbc.org
X-WR-CALDESC:Events for San Francisco Boys Chorus
REFRESH-INTERVAL;VALUE=DURATION:PT1H
X-Robots-Tag:noindex
X-PUBLISHED-TTL:PT1H
BEGIN:VTIMEZONE
TZID:America/Los_Angeles
BEGIN:DAYLIGHT
TZOFFSETFROM:-0800
TZOFFSETTO:-0700
TZNAME:PDT
DTSTART:20250309T100000
END:DAYLIGHT
BEGIN:STANDARD
TZOFFSETFROM:-0700
TZOFFSETTO:-0800
TZNAME:PST
DTSTART:20251102T090000
END:STANDARD
BEGIN:DAYLIGHT
TZOFFSETFROM:-0800
TZOFFSETTO:-0700
TZNAME:PDT
DTSTART:20260308T100000
END:DAYLIGHT
BEGIN:STANDARD
TZOFFSETFROM:-0700
TZOFFSETTO:-0800
TZNAME:PST
DTSTART:20261101T090000
END:STANDARD
BEGIN:DAYLIGHT
TZOFFSETFROM:-0800
TZOFFSETTO:-0700
TZNAME:PDT
DTSTART:20270314T100000
END:DAYLIGHT
BEGIN:STANDARD
TZOFFSETFROM:-0700
TZOFFSETTO:-0800
TZNAME:PST
DTSTART:20271107T090000
END:STANDARD
END:VTIMEZONE
BEGIN:VEVENT
DTSTART;TZID=America/Los_Angeles:20260527T124500
DTEND;TZID=America/Los_Angeles:20260527T150000
DTSTAMP:20260421T050747
CREATED:20260421T014056Z
LAST-MODIFIED:20260421T050532Z
UID:10000099-1779885900-1779894000@sfbc.org
SUMMARY:SF Boys Chorus at the SF Giants
DESCRIPTION:Please come and support the San Francisco Boys Chorus as they perform the National Anthem for the SF Giants vs the Arizona Diamondbacks game on Wednesday\, May 27th! (See performance memo for choristers’ call time). \n\n\n\nTell a friend and help support the Chorus. ALL San Francisco Boys Chorus families and friends are invited to buy tickets and attend. \n\n\n\nThe Chorus performs the National Anthem annually for public performances and civic events. For four decades\, San Francisco mayors have recognized the Boys Chorus as official “Singing Ambassadors of San Francisco\,” and frequently invite the Boys to perform for events at City Hall. SFBC is proud to be singing the National Anthem for their hometown team\, the SF Giants! We hope to see you all there! \n\n\n\nGame Details – The first Pitch begins at 12:45 pm at Oracle Park. \n\n\n\nBackground: The San Francisco Boys Chorus (SFBC) is an internationally acclaimed Grammy-award-winning non-profit music education and performing arts organization at the heart of San Francisco’s cultural center. Founded in 1948\, SFBC is one of the country’s oldest nonprofit choral arts organizations and the largest chorus for boys in the western United States. SFBC’s mission is “to provide music education\, vocal training\, and performance experiences at the highest artistic level to Bay Area boys from all cultural\, ethnic\, and economic backgrounds.” The chorus serves over 150 singers from 50 Bay Area cities and more than 100 schools at four Bay Area campuses. The Concert Chorus tours both nationally and internationally and has performed for U.S. presidents and foreign dignitaries.
URL:https://sfbc.org/event/sf-boys-chorus-at-the-sf-giants/
LOCATION:Oracle Park: Home of the San Francisco Giants\, 24 Willie Mays Plaza\, San Francisco\, California\, 94107\, United States
CATEGORIES:Event,Performance
ATTACH;FMTTYPE=image/jpeg:https://sfbc.org/wp-content/uploads/2026/04/SFBC-At-SF-Giants.jpg
END:VEVENT
BEGIN:VEVENT
DTSTART;TZID=America/Los_Angeles:20260606T140000
DTEND;TZID=America/Los_Angeles:20260606T140000
DTSTAMP:20260421T050747
CREATED:20251220T183439Z
LAST-MODIFIED:20260321T170756Z
UID:10000096-1780754400-1780754400@sfbc.org
SUMMARY:San Francisco Boys Chorus Spring Concert
DESCRIPTION:Buy Tickets\n\n\n\n\n \n\n\n\nSave the date for Saturday\, June 6\, 2026\, when the Spring SFBC Concert will be held at Calvary Presbyterian Church in San Francisco\, located in Pacific Heights at the corner of Fillmore Street and Jackson.  \n\n\n\nIn the neighborhood around Calvary Presbyterian\, there are many good restaurants. Concertgoers often like to dine before or after the performance. Here’s a link to “Flavors of the Fillmore”\, which can help you make your plans in San Francisco’s Fillmore/Pacific Heights Corridor. https://fillmorestreetsf.com/dining/ \n\n\n\nThe Chorus looks forward to seeing you.
URL:https://sfbc.org/event/san-francisco-boys-chorus-spring-concert-2/
LOCATION:Calvary Presbyterian Church\, 2515 Fillmore St\, San Francisco\, California\, 94115\, United States
CATEGORIES:Event,Performance
ATTACH;FMTTYPE=image/png:https://sfbc.org/wp-content/uploads/2025/01/spring-concert-no-date.png
END:VEVENT
BEGIN:VEVENT
DTSTART;TZID=America/Los_Angeles:20260703T193000
DTEND;TZID=America/Los_Angeles:20260703T213000
DTSTAMP:20260421T050747
CREATED:20260413T220941Z
LAST-MODIFIED:20260413T222030Z
UID:10000098-1783107000-1783114200@sfbc.org
SUMMARY:Joint Concert with Los Angeles Children's Chorus
DESCRIPTION:Guest artists San Francisco Boys Chorus sing with Los Angeles Children’s Chorus on their West Coast Tour.
URL:https://sfbc.org/event/joint-concert-with-los-angeles-childrens-chorus/
LOCATION:Calvary Presbyterian Church\, Fillmore Street\, San Francisco
CATEGORIES:Event,Performance
ATTACH;FMTTYPE=image/jpeg:https://sfbc.org/wp-content/uploads/2026/04/download.jpg
END:VEVENT
END:VCALENDAR