BEGIN:VCALENDAR
VERSION:2.0
PRODID:-//San Francisco Boys Chorus - ECPv6.15.20//NONSGML v1.0//EN
CALSCALE:GREGORIAN
METHOD:PUBLISH
X-ORIGINAL-URL:https://sfbc.org
X-WR-CALDESC:Events for San Francisco Boys Chorus
REFRESH-INTERVAL;VALUE=DURATION:PT1H
X-Robots-Tag:noindex
X-PUBLISHED-TTL:PT1H
BEGIN:VTIMEZONE
TZID:America/Los_Angeles
BEGIN:DAYLIGHT
TZOFFSETFROM:-0800
TZOFFSETTO:-0700
TZNAME:PDT
DTSTART:20210314T100000
END:DAYLIGHT
BEGIN:STANDARD
TZOFFSETFROM:-0700
TZOFFSETTO:-0800
TZNAME:PST
DTSTART:20211107T090000
END:STANDARD
BEGIN:DAYLIGHT
TZOFFSETFROM:-0800
TZOFFSETTO:-0700
TZNAME:PDT
DTSTART:20220313T100000
END:DAYLIGHT
BEGIN:STANDARD
TZOFFSETFROM:-0700
TZOFFSETTO:-0800
TZNAME:PST
DTSTART:20221106T090000
END:STANDARD
BEGIN:DAYLIGHT
TZOFFSETFROM:-0800
TZOFFSETTO:-0700
TZNAME:PDT
DTSTART:20230312T100000
END:DAYLIGHT
BEGIN:STANDARD
TZOFFSETFROM:-0700
TZOFFSETTO:-0800
TZNAME:PST
DTSTART:20231105T090000
END:STANDARD
BEGIN:DAYLIGHT
TZOFFSETFROM:-0800
TZOFFSETTO:-0700
TZNAME:PDT
DTSTART:20240310T100000
END:DAYLIGHT
BEGIN:STANDARD
TZOFFSETFROM:-0700
TZOFFSETTO:-0800
TZNAME:PST
DTSTART:20241103T090000
END:STANDARD
BEGIN:DAYLIGHT
TZOFFSETFROM:-0800
TZOFFSETTO:-0700
TZNAME:PDT
DTSTART:20250309T100000
END:DAYLIGHT
BEGIN:STANDARD
TZOFFSETFROM:-0700
TZOFFSETTO:-0800
TZNAME:PST
DTSTART:20251102T090000
END:STANDARD
BEGIN:DAYLIGHT
TZOFFSETFROM:-0800
TZOFFSETTO:-0700
TZNAME:PDT
DTSTART:20260308T100000
END:DAYLIGHT
BEGIN:STANDARD
TZOFFSETFROM:-0700
TZOFFSETTO:-0800
TZNAME:PST
DTSTART:20261101T090000
END:STANDARD
END:VTIMEZONE
BEGIN:VEVENT
DTSTART;TZID=America/Los_Angeles:20251208T183000
DTEND;TZID=America/Los_Angeles:20251208T200000
DTSTAMP:20260424T070227
CREATED:20251117T180833Z
LAST-MODIFIED:20251117T180835Z
UID:10000092-1765218600-1765224000@sfbc.org
SUMMARY:RWF World Tree of Hope Celebration
DESCRIPTION:Lighting the Tree of Hope at Grace Cathedral — the tree is decorated with origami cranes that have been inscribed with wishes for the future. The San Francisco Boy’s Chorus will perform.  \n\n\n\n\nMore Info at World Tree of Hope
URL:https://sfbc.org/event/rwf-world-tree-of-hope-celebration/
LOCATION:Grace Cathedral\, 1100 California St\, San Francisco\, California\, 94108
CATEGORIES:Event,Performance
ATTACH;FMTTYPE=image/jpeg:https://sfbc.org/wp-content/uploads/2025/11/grace-cathedral-tree-of-hope.jpg
END:VEVENT
BEGIN:VEVENT
DTSTART;TZID=America/Los_Angeles:20221205T183000
DTEND;TZID=America/Los_Angeles:20221205T200000
DTSTAMP:20260424T070227
CREATED:20220923T061500Z
LAST-MODIFIED:20220929T195557Z
UID:10000012-1670265000-1670270400@sfbc.org
SUMMARY:RWF World Tree of Hope Celebration
DESCRIPTION:Lighting the Tree of Hope at Grace Cathedral — the tree is decorated with origami cranes that have been inscribed with wishes for the future. The San Francisco Boy’s Chorus will perform.  \n\n\n\n \n\n\n\n\nMore Info at World Tree of Hope
URL:https://sfbc.org/event/tree-of-hope-celebration/
LOCATION:Grace Cathedral\, 1100 California St\, San Francisco\, California\, 94108
CATEGORIES:Event,Performance
ATTACH;FMTTYPE=image/jpeg:https://sfbc.org/wp-content/uploads/2021/11/sfbc-world-tree-of-hope-tree-lighting-v2021.jpg
END:VEVENT
END:VCALENDAR