BEGIN:VCALENDAR
VERSION:2.0
PRODID:-//San Francisco Boys Chorus - ECPv6.15.20//NONSGML v1.0//EN
CALSCALE:GREGORIAN
METHOD:PUBLISH
X-WR-CALNAME:San Francisco Boys Chorus
X-ORIGINAL-URL:https://sfbc.org
X-WR-CALDESC:Events for San Francisco Boys Chorus
REFRESH-INTERVAL;VALUE=DURATION:PT1H
X-Robots-Tag:noindex
X-PUBLISHED-TTL:PT1H
BEGIN:VTIMEZONE
TZID:America/Los_Angeles
BEGIN:DAYLIGHT
TZOFFSETFROM:-0800
TZOFFSETTO:-0700
TZNAME:PDT
DTSTART:20210314T100000
END:DAYLIGHT
BEGIN:STANDARD
TZOFFSETFROM:-0700
TZOFFSETTO:-0800
TZNAME:PST
DTSTART:20211107T090000
END:STANDARD
BEGIN:DAYLIGHT
TZOFFSETFROM:-0800
TZOFFSETTO:-0700
TZNAME:PDT
DTSTART:20220313T100000
END:DAYLIGHT
BEGIN:STANDARD
TZOFFSETFROM:-0700
TZOFFSETTO:-0800
TZNAME:PST
DTSTART:20221106T090000
END:STANDARD
BEGIN:DAYLIGHT
TZOFFSETFROM:-0800
TZOFFSETTO:-0700
TZNAME:PDT
DTSTART:20230312T100000
END:DAYLIGHT
BEGIN:STANDARD
TZOFFSETFROM:-0700
TZOFFSETTO:-0800
TZNAME:PST
DTSTART:20231105T090000
END:STANDARD
BEGIN:DAYLIGHT
TZOFFSETFROM:-0800
TZOFFSETTO:-0700
TZNAME:PDT
DTSTART:20240310T100000
END:DAYLIGHT
BEGIN:STANDARD
TZOFFSETFROM:-0700
TZOFFSETTO:-0800
TZNAME:PST
DTSTART:20241103T090000
END:STANDARD
END:VTIMEZONE
BEGIN:VEVENT
DTSTART;TZID=America/Los_Angeles:20231221T190000
DTEND;TZID=America/Los_Angeles:20231222T190000
DTSTAMP:20260424T014836
CREATED:20231104T043823Z
LAST-MODIFIED:20231202T215812Z
UID:10000050-1703185200-1703271600@sfbc.org
SUMMARY:SFBC with The Nutshell!
DESCRIPTION:DECEMBER 21 & 22 AT 7:00 PM (SFBC is not in the Dec. 23 performances) \n\n\n\nMannakin Theater & Dance – iMPACt Center for Art & Dance \n\n\n\nCome see the whole world of dance this year\, in The Nutshell!  The immersive Nutcracker celebration that includes every dancer and every culture.
URL:https://sfbc.org/event/sfbc-with-the-nutshell/
LOCATION:Mannakin Theater & Dance – iMPACt Center for Art & Dance\, 1625 Bush St Suite 4\, San Francisco\, CA\, 94109\, United States
CATEGORIES:Event,Performance
ATTACH;FMTTYPE=image/jpeg:https://sfbc.org/wp-content/uploads/2023/11/MannakinTheater-Dance-with-chorus-dec-2023-nut.jpg
END:VEVENT
BEGIN:VEVENT
DTSTART;TZID=America/Los_Angeles:20221222T190000
DTEND;TZID=America/Los_Angeles:20221222T190000
DTSTAMP:20260424T014836
CREATED:20221130T014616Z
LAST-MODIFIED:20221213T065452Z
UID:10000033-1671735600-1671735600@sfbc.org
SUMMARY:SFBC with The Nutshell!
DESCRIPTION:Mannakin Theater & Dance – iMPACt Center for Art & Dance \n\n\n\nCome see the whole world of dance this year\, in The Nutshell!  The immersive Nutcracker celebration that includes every dancer and every culture. \n\n\n\nDECEMBER 22ND AND 23RD AT 7:00PM
URL:https://sfbc.org/event/nutshell/
LOCATION:Mannakin Theater & Dance – iMPACt Center for Art & Dance\, 1625 Bush St Suite 4\, San Francisco\, CA\, 94109\, United States
CATEGORIES:Event,Performance
ATTACH;FMTTYPE=image/jpeg:https://sfbc.org/wp-content/uploads/2022/11/Mannakin-Theater-Dance-dec-2022-with-sfbc-singing.jpg
END:VEVENT
END:VCALENDAR